BEGIN:VCALENDAR
VERSION:2.0
PRODID:-//Entre-Temps Escalade - ECPv6.15.20//NONSGML v1.0//EN
CALSCALE:GREGORIAN
METHOD:PUBLISH
X-ORIGINAL-URL:https://www.entre-temps-escalade.fr
X-WR-CALDESC:Évènements pour Entre-Temps Escalade
REFRESH-INTERVAL;VALUE=DURATION:PT1H
X-Robots-Tag:noindex
X-PUBLISHED-TTL:PT1H
BEGIN:VTIMEZONE
TZID:Europe/Paris
BEGIN:DAYLIGHT
TZOFFSETFROM:+0100
TZOFFSETTO:+0200
TZNAME:CEST
DTSTART:20250330T010000
END:DAYLIGHT
BEGIN:STANDARD
TZOFFSETFROM:+0200
TZOFFSETTO:+0100
TZNAME:CET
DTSTART:20251026T010000
END:STANDARD
BEGIN:DAYLIGHT
TZOFFSETFROM:+0100
TZOFFSETTO:+0200
TZNAME:CEST
DTSTART:20260329T010000
END:DAYLIGHT
BEGIN:STANDARD
TZOFFSETFROM:+0200
TZOFFSETTO:+0100
TZNAME:CET
DTSTART:20261025T010000
END:STANDARD
BEGIN:DAYLIGHT
TZOFFSETFROM:+0100
TZOFFSETTO:+0200
TZNAME:CEST
DTSTART:20270328T010000
END:DAYLIGHT
BEGIN:STANDARD
TZOFFSETFROM:+0200
TZOFFSETTO:+0100
TZNAME:CET
DTSTART:20271031T010000
END:STANDARD
END:VTIMEZONE
BEGIN:VEVENT
DTSTART;VALUE=DATE:20260407
DTEND;VALUE=DATE:20260411
DTSTAMP:20260425T131927
CREATED:20251105T120046Z
LAST-MODIFIED:20260325T103037Z
UID:8126-1775520000-1775865599@www.entre-temps-escalade.fr
SUMMARY:Stage falaise pour les U11/U13/U15/U17 compet et perf.
DESCRIPTION:Stage falaise dans le Doubs – du 07 au 10 avril 2026. 16 personnes maximum.\nAvec les moniteurs Théo et Louis ! \nPrérequis : U11/U13/U15/U17 compet et perf. \nObjectifs ? Développer les compétences globales en extérieur. \nPique nique à prévoir. \nDate limite d’inscription : le 30 mars !\nInscriptions Hello Asso : https://www.helloasso.com/associations/entre-temps-escalade/evenements/sortie-falaise-pour-les-u11-u13-u15-u17-compet-et-perf
URL:https://www.entre-temps-escalade.fr/evenement/stage-preparation-region-diff-groupe-perf-u15-u17-u19/
LOCATION:Besançon
CATEGORIES:Compétitions,Nos évènements
END:VEVENT
END:VCALENDAR