BEGIN:VCALENDAR
VERSION:2.0
PRODID:-//Entre-Temps Escalade - ECPv6.15.20//NONSGML v1.0//EN
CALSCALE:GREGORIAN
METHOD:PUBLISH
X-ORIGINAL-URL:https://www.entre-temps-escalade.fr
X-WR-CALDESC:Évènements pour Entre-Temps Escalade
REFRESH-INTERVAL;VALUE=DURATION:PT1H
X-Robots-Tag:noindex
X-PUBLISHED-TTL:PT1H
BEGIN:VTIMEZONE
TZID:Europe/Paris
BEGIN:DAYLIGHT
TZOFFSETFROM:+0100
TZOFFSETTO:+0200
TZNAME:CEST
DTSTART:20250330T010000
END:DAYLIGHT
BEGIN:STANDARD
TZOFFSETFROM:+0200
TZOFFSETTO:+0100
TZNAME:CET
DTSTART:20251026T010000
END:STANDARD
BEGIN:DAYLIGHT
TZOFFSETFROM:+0100
TZOFFSETTO:+0200
TZNAME:CEST
DTSTART:20260329T010000
END:DAYLIGHT
BEGIN:STANDARD
TZOFFSETFROM:+0200
TZOFFSETTO:+0100
TZNAME:CET
DTSTART:20261025T010000
END:STANDARD
BEGIN:DAYLIGHT
TZOFFSETFROM:+0100
TZOFFSETTO:+0200
TZNAME:CEST
DTSTART:20270328T010000
END:DAYLIGHT
BEGIN:STANDARD
TZOFFSETFROM:+0200
TZOFFSETTO:+0100
TZNAME:CET
DTSTART:20271031T010000
END:STANDARD
END:VTIMEZONE
BEGIN:VEVENT
DTSTART;TZID=Europe/Paris:20260521T180000
DTEND;TZID=Europe/Paris:20260521T220000
DTSTAMP:20260425T145636
CREATED:20251105T121909Z
LAST-MODIFIED:20260324T153533Z
UID:8133-1779386400-1779400800@www.entre-temps-escalade.fr
SUMMARY:BE-FORT 4 / FINALE
DESCRIPTION:https://www.entre-temps-escalade.fr/be-fort/ \n 
URL:https://www.entre-temps-escalade.fr/evenement/be-fort-4-finale/
LOCATION:Besançon
CATEGORIES:Compétitions,Nos évènements
END:VEVENT
END:VCALENDAR